BEGIN:VCALENDAR
PRODID:-//eluceo/ical//2.0/EN
VERSION:2.0
CALSCALE:GREGORIAN
BEGIN:VEVENT
UID:14052420e3236c1b53cdbfccaa0ccd25
DTSTAMP:20260422T133817Z
SUMMARY:Partner's Night - Conférence "Les hôpitaux en burn-out?"
DESCRIPTION:Conférencier(s): Dr  Marcel-Eric Ponthier\, gynécologue\,  a
 djoint à la direction médicale de la Citadelle de Liège\, trésorier et
  Président élu du rotary club des Baux de Provence.
URL:https://seraing.rotary2160.org/fr/agenda/show/97486
DTSTART;TZID=Europe/Zurich:20260423T190000
DTEND;TZID=Europe/Zurich:20260423T213000
LOCATION:Château du Val Saint Lambert\, Château du Val Saint Lambert\, 41
 00 Seraing\, Belgique
CATEGORIES:Rotary
END:VEVENT
BEGIN:VTIMEZONE
TZID:Europe/Zurich
BEGIN:DAYLIGHT
DTSTART:20260423T190000
TZNAME:CEST
TZOFFSETTO:+0200
TZOFFSETFROM:+0200
END:DAYLIGHT
END:VTIMEZONE
END:VCALENDAR
